BEGIN:VCALENDAR
VERSION:2.0
PRODID:-//Tukios.com/
BEGIN:VEVENT
UID:f8c75196-a295-40eb-93e7-53ff5f2f8eb1@www.carolinacemetery.com
DTSTAMP:20260425T001000Z
DTSTART:20260425T160000Z
DTEND:20260425T170000Z
SUMMARY:Interment
DESCRIPTION:First Baptist Church
URL:https://www.carolinacemetery.com/obituaries/dona-harriette-baucom
LOCATION: 601 Mt Olivet Rd  Concord NC 28025
GEO:35.453296;-80.611762
END:VEVENT
END:VCALENDAR