BEGIN:VCALENDAR
VERSION:2.0
PRODID:-//Tukios.com/
BEGIN:VEVENT
UID:f33dfc63-a065-42b5-9c28-841aa7ae8089@www.carolinacemetery.com
DTSTAMP:20260425T001132Z
DTSTART:20260425T180000Z
DTEND:20260425T190000Z
SUMMARY:Interment
DESCRIPTION:New Life Baptist Church
URL:https://www.carolinacemetery.com/obituaries/linda-wood
LOCATION: 601 Mt Olivet Rd  Concord NC 28025
GEO:35.453296;-80.611762
END:VEVENT
END:VCALENDAR